0.26808009123442
0.00000000000000
0.00000000000000
-0.26808009123442
330990.79016805370000
4188866.08267860350000
